BEGIN:VCALENDAR
VERSION:2.0
PRODID:-//REACH Ashland Youth Center - ECPv6.15.20//NONSGML v1.0//EN
CALSCALE:GREGORIAN
METHOD:PUBLISH
X-ORIGINAL-URL:https://reachashland.org
X-WR-CALDESC:Events for REACH Ashland Youth Center
REFRESH-INTERVAL;VALUE=DURATION:PT1H
X-Robots-Tag:noindex
X-PUBLISHED-TTL:PT1H
BEGIN:VTIMEZONE
TZID:UTC
BEGIN:STANDARD
TZOFFSETFROM:+0000
TZOFFSETTO:+0000
TZNAME:UTC
DTSTART:20200101T000000
END:STANDARD
END:VTIMEZONE
BEGIN:VEVENT
DTSTART;TZID=UTC:20211004T153000
DTEND;TZID=UTC:20211004T183000
DTSTAMP:20260421T214850
CREATED:20211007T072400Z
LAST-MODIFIED:20211007T090350Z
UID:1710-1633361400-1633372200@reachashland.org
SUMMARY:Visual Arts (The Works) - Group A1
DESCRIPTION:Members in this workshop are also enrolled in the Personal and Professional Development – Group A1 paid training course\, and participate in that class T/Th weekly.
URL:https://reachashland.org/event/visual-arts-the-works-group-a1/
LOCATION:REACH Ashland Youth Center\, 16335 E. 14th Street\, San Leandro\, CA\, 94578\, United States
END:VEVENT
BEGIN:VEVENT
DTSTART;TZID=UTC:20211004T153000
DTEND;TZID=UTC:20211004T183000
DTSTAMP:20260421T214850
CREATED:20211007T074639Z
LAST-MODIFIED:20211007T085333Z
UID:1744-1633361400-1633372200@reachashland.org
SUMMARY:Coding Arts - Group C
DESCRIPTION:This is a stand-alone workshop. Members in this class meet M-W weekly.
URL:https://reachashland.org/event/coding-arts/
LOCATION:REACH Ashland Youth Center\, 16335 E. 14th Street\, San Leandro\, CA\, 94578\, United States
END:VEVENT
BEGIN:VEVENT
DTSTART;TZID=UTC:20211004T153000
DTEND;TZID=UTC:20211004T183000
DTSTAMP:20260421T214850
CREATED:20211007T090159Z
LAST-MODIFIED:20211007T090218Z
UID:1755-1633361400-1633372200@reachashland.org
SUMMARY:PPD (Personal and Professional Development) – Group B1
DESCRIPTION:Members in this workshop are also enrolled in Visual Arts (The Works) – Group B1\, and participate in that class T/Th weekly.
URL:https://reachashland.org/event/ppd-personal-and-professional-development-group-b1/
LOCATION:REACH Ashland Youth Center\, 16335 E. 14th Street\, San Leandro\, CA\, 94578\, United States
END:VEVENT
END:VCALENDAR